BEGIN:VCALENDAR
VERSION:2.0
PRODID:-//Vega De Gordón - ECPv6.15.20//NONSGML v1.0//EN
CALSCALE:GREGORIAN
METHOD:PUBLISH
X-ORIGINAL-URL:https://vegadegordon.es
X-WR-CALDESC:Eventos para Vega De Gordón
REFRESH-INTERVAL;VALUE=DURATION:PT1H
X-Robots-Tag:noindex
X-PUBLISHED-TTL:PT1H
BEGIN:VTIMEZONE
TZID:UTC
BEGIN:STANDARD
TZOFFSETFROM:+0000
TZOFFSETTO:+0000
TZNAME:UTC
DTSTART:20250101T000000
END:STANDARD
END:VTIMEZONE
BEGIN:VEVENT
DTSTART;VALUE=DATE:20260418
DTEND;VALUE=DATE:20260420
DTSTAMP:20260426T021043
CREATED:20260224T200354Z
LAST-MODIFIED:20260224T200354Z
UID:1378-1776470400-1776643199@vegadegordon.es
SUMMARY:Senen Challenge
DESCRIPTION:
URL:https://vegadegordon.es/event/senen-challenge/
LOCATION:Casa Senen
END:VEVENT
BEGIN:VEVENT
DTSTART;VALUE=DATE:20260301
DTEND;VALUE=DATE:20260302
DTSTAMP:20260426T021043
CREATED:20260305T102807Z
LAST-MODIFIED:20260305T102807Z
UID:1457-1772323200-1772409599@vegadegordon.es
SUMMARY:Prueba Sorteo Buggy
DESCRIPTION:Sorteo Buggy
URL:https://vegadegordon.es/event/prueba-sorteo-buggy/
LOCATION:Casa Senen
CATEGORIES:Sorteo
END:VEVENT
END:VCALENDAR